BEGIN:VCALENDAR
VERSION:2.0
PRODID:-//Give it a Grow Wigan - ECPv6.15.20//NONSGML v1.0//EN
CALSCALE:GREGORIAN
METHOD:PUBLISH
X-ORIGINAL-URL:https://giveitagrowwigan.co.uk
X-WR-CALDESC:Events for Give it a Grow Wigan
REFRESH-INTERVAL;VALUE=DURATION:PT1H
X-Robots-Tag:noindex
X-PUBLISHED-TTL:PT1H
BEGIN:VTIMEZONE
TZID:Europe/London
BEGIN:DAYLIGHT
TZOFFSETFROM:+0000
TZOFFSETTO:+0100
TZNAME:BST
DTSTART:20240331T010000
END:DAYLIGHT
BEGIN:STANDARD
TZOFFSETFROM:+0100
TZOFFSETTO:+0000
TZNAME:GMT
DTSTART:20241027T010000
END:STANDARD
BEGIN:DAYLIGHT
TZOFFSETFROM:+0000
TZOFFSETTO:+0100
TZNAME:BST
DTSTART:20250330T010000
END:DAYLIGHT
BEGIN:STANDARD
TZOFFSETFROM:+0100
TZOFFSETTO:+0000
TZNAME:GMT
DTSTART:20251026T010000
END:STANDARD
BEGIN:DAYLIGHT
TZOFFSETFROM:+0000
TZOFFSETTO:+0100
TZNAME:BST
DTSTART:20260329T010000
END:DAYLIGHT
BEGIN:STANDARD
TZOFFSETFROM:+0100
TZOFFSETTO:+0000
TZNAME:GMT
DTSTART:20261025T010000
END:STANDARD
END:VTIMEZONE
BEGIN:VEVENT
DTSTART;TZID=Europe/London:20251128T100000
DTEND;TZID=Europe/London:20251128T110000
DTSTAMP:20260423T133134
CREATED:20251031T145152Z
LAST-MODIFIED:20251107T094744Z
UID:14889-1764324000-1764327600@giveitagrowwigan.co.uk
SUMMARY:Step Into Nature - Guided Woodland Walk
DESCRIPTION:Our free monthly guided woodland walk – Step Into Nature. \nThe next walk together is on 28th Nov\, 10am at Parkbrook Lane\, WN6 8AF  (what 3 words is ///grapevine.chill.confusion) and will be led by Victoria – we’ll gently enjoy the sights and sounds of these beautiful woodlands through the seasons. \nStarting in Shevington this month \, we’ll explore local woodlands\, a perfect way to get outdoors\, meet new friends\, and discover hidden corners of our local green spaces. The walk is approximately 2 miles along with some uneven paths and steps \, and is free to attend. \nIt is muddy\, and we don’t mind a bit of rain\, so dress for the weather! \nIt will be the 4th Friday of each month at 10am. The starting point may alter very slightly month to month\, but we will make sure to update you. \nBooking is preferred\, but not necessary. It’s just so we know to wait for you. Or if you prefer to text that’s fine\, 07768202818
URL:https://giveitagrowwigan.co.uk/event/step-into-nature-guided-woodland-walk-2/
CATEGORIES:Free,Workshop
ATTACH;FMTTYPE=image/jpeg:https://giveitagrowwigan.co.uk/wp-content/uploads/2025/10/Step-Into-Nature-Walk-Nov-Instagram.jpg
END:VEVENT
BEGIN:VEVENT
DTSTART;TZID=Europe/London:20251130T120000
DTEND;TZID=Europe/London:20251130T150000
DTSTAMP:20260423T133134
CREATED:20251024T130938Z
LAST-MODIFIED:20251024T130938Z
UID:14736-1764504000-1764514800@giveitagrowwigan.co.uk
SUMMARY:Gardening Together Sunday Session
DESCRIPTION:Join us in the community garden on the last Sunday of each month for our weekend session – 12 – 3pm\, for some company and gentle movement in the outdoors. \nAt the community garden\, we tend to several raised beds\, borders\, a greenhouse\, fruit trees\, and a wildlife pond together. We grow all kinds of fruit and veg\, and there is often produce or plants to take home at the end of a session. \nThere are always plenty of different jobs to do and things to learn. Anyone is welcome to attend – just show up\, there’s no need to book\, and no skills are required as all training and tools are provided. \nChildren and families are always welcome. We’ve got garden toys and always invite young people to join in with planting and garden jobs if they want. \nPlease dress for the weather – sessions always go ahead unless it’s pouring with rain. We’ll post on socials if it’s off for any reason. \nThe space is accessible by wheelchair. \nAddress\nSt Anne’s Community Garden\, 152 Beech Hill Ave\, Wigan\, WN6 7TA \nThere’s free parking outside\, and it’s accessible by bus
URL:https://giveitagrowwigan.co.uk/event/gardening-together-sunday-1
LOCATION:St Anne’s Community Garden\, 152 Beech Hill Ave\, Wigan\, Greater Manchester\, WN6 7TA\, United Kingdom
CATEGORIES:Free,Gardening
ATTACH;FMTTYPE=image/jpeg:https://giveitagrowwigan.co.uk/wp-content/uploads/2025/05/seed-bomb-sunday-gardening-min-e1753524841621.jpg
ORGANIZER;CN="Give it a Grow Wigan":MAILTO:hello@giveitagrowwigan.co.uk
END:VEVENT
END:VCALENDAR