BEGIN:VCALENDAR
VERSION:2.0
PRODID:-//Give it a Grow Wigan - ECPv6.15.20//NONSGML v1.0//EN
CALSCALE:GREGORIAN
METHOD:PUBLISH
X-WR-CALNAME:Give it a Grow Wigan
X-ORIGINAL-URL:https://giveitagrowwigan.co.uk
X-WR-CALDESC:Events for Give it a Grow Wigan
REFRESH-INTERVAL;VALUE=DURATION:PT1H
X-Robots-Tag:noindex
X-PUBLISHED-TTL:PT1H
BEGIN:VTIMEZONE
TZID:Europe/London
BEGIN:DAYLIGHT
TZOFFSETFROM:+0000
TZOFFSETTO:+0100
TZNAME:BST
DTSTART:20250330T010000
END:DAYLIGHT
BEGIN:STANDARD
TZOFFSETFROM:+0100
TZOFFSETTO:+0000
TZNAME:GMT
DTSTART:20251026T010000
END:STANDARD
BEGIN:DAYLIGHT
TZOFFSETFROM:+0000
TZOFFSETTO:+0100
TZNAME:BST
DTSTART:20260329T010000
END:DAYLIGHT
BEGIN:STANDARD
TZOFFSETFROM:+0100
TZOFFSETTO:+0000
TZNAME:GMT
DTSTART:20261025T010000
END:STANDARD
BEGIN:DAYLIGHT
TZOFFSETFROM:+0000
TZOFFSETTO:+0100
TZNAME:BST
DTSTART:20270328T010000
END:DAYLIGHT
BEGIN:STANDARD
TZOFFSETFROM:+0100
TZOFFSETTO:+0000
TZNAME:GMT
DTSTART:20271031T010000
END:STANDARD
END:VTIMEZONE
BEGIN:VEVENT
DTSTART;TZID=Europe/London:20260102T100000
DTEND;TZID=Europe/London:20260102T113000
DTSTAMP:20260423T102853
CREATED:20251209T121049Z
LAST-MODIFIED:20251230T162639Z
UID:14958-1767348000-1767353400@giveitagrowwigan.co.uk
SUMMARY:Step Into Nature - Guided Woodland Walk
DESCRIPTION:Our free monthly guided woodland walk – Step Into Nature. Please note the date has changed due to it landing on boxing day (this is December’s walk!) \nThe next walk together is on 2nd Jan\, 10am at Beech Hill Park\, Gidlow Lane\, WN6 8RQ  and will be led by Victoria – we’ll gently enjoy the sights and sounds of these beautiful woodlands and farmland through the seasons. \nStarting in Beech Hill this month\, we’ll explore local woodlands\, a perfect way to get outdoors\, meet new friends\, and discover hidden corners of our local green spaces. The walk is approximately 2 miles along with some uneven paths and steps\, and is free to attend. \nIt is muddy\, and we don’t mind a bit of rain\, so dress for the weather! Wellies recomended \nIt will usually be the 4th Friday of each month at 10am. The starting point may alter very slightly month to month\, but we will make sure to update you. \nBooking is preferred\, but not necessary. It’s just so we know to wait for you. Or if you prefer to text that’s fine\, 07768202818
URL:https://giveitagrowwigan.co.uk/event/step-into-nature-guided-woodland-walk-3/
LOCATION:Greater Manchester
CATEGORIES:Free,Workshop
ATTACH;FMTTYPE=image/jpeg:https://giveitagrowwigan.co.uk/wp-content/uploads/2025/12/TCP-Step-Into-Nature-Walk-Instagram-Dec-1.jpg
END:VEVENT
BEGIN:VEVENT
DTSTART;TZID=Europe/London:20260125T120000
DTEND;TZID=Europe/London:20260125T140000
DTSTAMP:20260423T102853
CREATED:20251230T150407Z
LAST-MODIFIED:20251230T151352Z
UID:15044-1769342400-1769349600@giveitagrowwigan.co.uk
SUMMARY:Seed Swap
DESCRIPTION:Join us at St Anne’s Community Garden in Beech Hill on Sunday 25th January for a relaxed and friendly Seed Swap and Share. \nThis is alongside our regular gardening social group on the last Sunday of the Month. \nA great chance to bring along any spare seeds you have and swap them with others\, and come along and pick up something new to grow\, free. You don’t have to bring seeds; you can just pick some up. \nWe’ll have a good selection of seeds available\, along with some bulbs already sprouting\, ready to be rehomed. An opportunity to get inspiration\, try something new\, and a positive start to the growing year. \nDrop in anytime between 12 and 2pm. All ages and abilities welcome.
URL:https://giveitagrowwigan.co.uk/event/seed-swap/
LOCATION:St Anne’s Community Garden\, 152 Beech Hill Ave\, Wigan\, Greater Manchester\, WN6 7TA\, United Kingdom
CATEGORIES:Free,Gardening
ATTACH;FMTTYPE=image/jpeg:https://giveitagrowwigan.co.uk/wp-content/uploads/2025/12/Plant-and-Seed-Share-GIAG-2026-min-1.jpg
END:VEVENT
BEGIN:VEVENT
DTSTART;TZID=Europe/London:20260125T120000
DTEND;TZID=Europe/London:20260125T150000
DTSTAMP:20260423T102853
CREATED:20251219T150153Z
LAST-MODIFIED:20251230T145803Z
UID:15016-1769342400-1769353200@giveitagrowwigan.co.uk
SUMMARY:Gardening Together Sunday Session
DESCRIPTION:Join us in the community garden on the last Sunday of each month for our weekend session – 12 – 3pm\, for some company and gentle movement in the outdoors. \nAt the community garden\, we tend to several raised beds\, borders\, a greenhouse\, fruit trees\, and a wildlife pond together. We grow all kinds of fruit and veg\, and there is often produce or plants to take home at the end of a session. \nThere are always plenty of different jobs to do and things to learn. Anyone is welcome to attend – just show up\, there’s no need to book\, and no skills are required as all training and tools are provided. \nChildren and families are always welcome. We’ve got garden toys and always invite young people to join in with planting and garden jobs if they want. \nPlease dress for the weather – sessions always go ahead unless it’s pouring with rain. We’ll post on socials if it’s off for any reason. \nThe space is accessible by wheelchair. \nAddress\nSt Anne’s Community Garden\, 152 Beech Hill Ave\, Wigan\, WN6 7TA \nThere’s free parking outside\, and it’s accessible by bus
URL:https://giveitagrowwigan.co.uk/event/gardening-together-sunday-5
LOCATION:St Anne’s Community Garden\, 152 Beech Hill Ave\, Wigan\, Greater Manchester\, WN6 7TA\, United Kingdom
CATEGORIES:Free,Gardening
ATTACH;FMTTYPE=image/jpeg:https://giveitagrowwigan.co.uk/wp-content/uploads/2025/05/seed-bomb-sunday-gardening-min-e1753524841621.jpg
ORGANIZER;CN="Give it a Grow Wigan":MAILTO:hello@giveitagrowwigan.co.uk
END:VEVENT
BEGIN:VEVENT
DTSTART;TZID=Europe/London:20260127T170000
DTEND;TZID=Europe/London:20260127T180000
DTSTAMP:20260423T102853
CREATED:20260108T194254Z
LAST-MODIFIED:20260108T201019Z
UID:15082-1769533200-1769536800@giveitagrowwigan.co.uk
SUMMARY:Caring for Winter Wildlife  - Workshop
DESCRIPTION:Join us for a fun workshop all about how we can help care for British wildlife during these cold winter months.  On 27th Jan at St Anne’s Community Centre\, in Beech Hill\, Wigan\, Victoria and Ali will be leading this hands-on workshop\, where we’ll look at everyday animals such as birds\, hedgehogs\, and more\, as well as the littlest creatures like insects. Together\, we’ll explore their habitats and needs during winter and share ways we can help support them. \n  \nRecommended age is 8+ (children must be accompanied)\, it’s suitable for families and adults who are interested in learning more. This is a beginner-friendly session – and you’ll leave with practical tips for actions you can take at home and a guide to keep.  \nWe’ll also make an eco-friendly pine cone bird feeder to take home. \nIf tickets sell out please add yourself to the waiting list to be notified. \nIf you’re booking more than 1 space\, please just add the main details (email etc) to the first attendee\, and only add names for the rest of the tickets. \nThis event is funded by the National Lottery Community Fund as part of a year-long programme of environmental events in Wigan Borough\, helping us support community action and care for local green spaces. \n\nEvent organised and facilitated by The Community Patch CIC \nAny questions\, please email us on hello@giveitagrowwigan.co.uk \n 
URL:https://giveitagrowwigan.co.uk/event/caring-for-winter-wildlife-workshop/
LOCATION:St Anne’s Community Garden\, 152 Beech Hill Ave\, Wigan\, Greater Manchester\, WN6 7TA\, United Kingdom
CATEGORIES:Free,Workshop
ATTACH;FMTTYPE=image/jpeg:https://giveitagrowwigan.co.uk/wp-content/uploads/2026/01/Caring-for-Winter-Wildlife-min.jpg
END:VEVENT
END:VCALENDAR