BEGIN:VCALENDAR
VERSION:2.0
PRODID:-//Give it a Grow Wigan - ECPv6.15.20//NONSGML v1.0//EN
CALSCALE:GREGORIAN
METHOD:PUBLISH
X-ORIGINAL-URL:https://giveitagrowwigan.co.uk
X-WR-CALDESC:Events for Give it a Grow Wigan
REFRESH-INTERVAL;VALUE=DURATION:PT1H
X-Robots-Tag:noindex
X-PUBLISHED-TTL:PT1H
BEGIN:VTIMEZONE
TZID:Europe/London
BEGIN:DAYLIGHT
TZOFFSETFROM:+0000
TZOFFSETTO:+0100
TZNAME:BST
DTSTART:20240331T010000
END:DAYLIGHT
BEGIN:STANDARD
TZOFFSETFROM:+0100
TZOFFSETTO:+0000
TZNAME:GMT
DTSTART:20241027T010000
END:STANDARD
BEGIN:DAYLIGHT
TZOFFSETFROM:+0000
TZOFFSETTO:+0100
TZNAME:BST
DTSTART:20250330T010000
END:DAYLIGHT
BEGIN:STANDARD
TZOFFSETFROM:+0100
TZOFFSETTO:+0000
TZNAME:GMT
DTSTART:20251026T010000
END:STANDARD
BEGIN:DAYLIGHT
TZOFFSETFROM:+0000
TZOFFSETTO:+0100
TZNAME:BST
DTSTART:20260329T010000
END:DAYLIGHT
BEGIN:STANDARD
TZOFFSETFROM:+0100
TZOFFSETTO:+0000
TZNAME:GMT
DTSTART:20261025T010000
END:STANDARD
END:VTIMEZONE
BEGIN:VEVENT
DTSTART;TZID=Europe/London:20250806T120000
DTEND;TZID=Europe/London:20250806T150000
DTSTAMP:20260423T191838
CREATED:20250726T102123Z
LAST-MODIFIED:20250726T102123Z
UID:13996-1754481600-1754492400@giveitagrowwigan.co.uk
SUMMARY:Play Day
DESCRIPTION:Join us as part of the amazing Play Day! A full day of free fun for children and families in Mesnes Park. \nAli will be there\, creating all kinds of leaf art. We’ll be painting\, printing\, stamping\, and having fun with leaves of all shapes and sizes to create beautiful nature inspired art for you to take home. \nFree and no need to book. \n  \n 
URL:https://giveitagrowwigan.co.uk/event/play-day/
LOCATION:Mesnes Park\, Mesnes Park Terrace\, Wigan\, WN1 1TU
CATEGORIES:Free,Workshop
ATTACH;FMTTYPE=image/jpeg:https://giveitagrowwigan.co.uk/wp-content/uploads/2025/07/playday.jpg
END:VEVENT
END:VCALENDAR