BEGIN:VCALENDAR
VERSION:2.0
PRODID:-//Give it a Grow Wigan - ECPv6.15.20//NONSGML v1.0//EN
CALSCALE:GREGORIAN
METHOD:PUBLISH
X-WR-CALNAME:Give it a Grow Wigan
X-ORIGINAL-URL:https://giveitagrowwigan.co.uk
X-WR-CALDESC:Events for Give it a Grow Wigan
REFRESH-INTERVAL;VALUE=DURATION:PT1H
X-Robots-Tag:noindex
X-PUBLISHED-TTL:PT1H
BEGIN:VTIMEZONE
TZID:Europe/London
BEGIN:DAYLIGHT
TZOFFSETFROM:+0000
TZOFFSETTO:+0100
TZNAME:BST
DTSTART:20250330T010000
END:DAYLIGHT
BEGIN:STANDARD
TZOFFSETFROM:+0100
TZOFFSETTO:+0000
TZNAME:GMT
DTSTART:20251026T010000
END:STANDARD
BEGIN:DAYLIGHT
TZOFFSETFROM:+0000
TZOFFSETTO:+0100
TZNAME:BST
DTSTART:20260329T010000
END:DAYLIGHT
BEGIN:STANDARD
TZOFFSETFROM:+0100
TZOFFSETTO:+0000
TZNAME:GMT
DTSTART:20261025T010000
END:STANDARD
BEGIN:DAYLIGHT
TZOFFSETFROM:+0000
TZOFFSETTO:+0100
TZNAME:BST
DTSTART:20270328T010000
END:DAYLIGHT
BEGIN:STANDARD
TZOFFSETFROM:+0100
TZOFFSETTO:+0000
TZNAME:GMT
DTSTART:20271031T010000
END:STANDARD
END:VTIMEZONE
BEGIN:VEVENT
DTSTART;TZID=Europe/London:20260208T110000
DTEND;TZID=Europe/London:20260208T123000
DTSTAMP:20260423T103210
CREATED:20251230T151523Z
LAST-MODIFIED:20260103T185110Z
UID:15048-1770548400-1770553800@giveitagrowwigan.co.uk
SUMMARY:Family Litter Pick
DESCRIPTION:Join us for a Family Litter Pick at Beech Hill Park\, Gidlow Lane\, on Sunday 8th February – starting at 11am and help care for this local green space. \nThis is a fun\, family-friendly event where everyone can get involved in making a positive difference. \nThere will also be a prize for the group or family that collects the most litter! A £40 voucher for Omniplex Cinema! \nAll litter picking equipment will be provided\, so just dress for the weather. \nWe will also have refreshments available. \nAccompanied children are very welcome\, and it is a great way to show young people how small actions can have a big impact on the local environment. \nYou can keep the equipment afterwards to continue the good work \nThis event is funded by the National Lottery as part of a year-long programme of family environmental events in Wigan Borough\, helping us support community action and care for local green spaces.\nEvent organised and facilitated by The Community Patch CIC \nBeech Hill Park\, Gidlow Lane\, Wigan\, WN6 8RQ \nAny questions\, please email us on hello@giveitagrowwigan.co.uk
URL:https://giveitagrowwigan.co.uk/event/family-litter-pick/
LOCATION:Beech Hill Park\, Gidlow Lane\, Wigan\, WN6 8RQ\, United Kingdom
CATEGORIES:Free
ATTACH;FMTTYPE=image/jpeg:https://giveitagrowwigan.co.uk/wp-content/uploads/2025/12/Community-Litter-Pic-min.jpg
END:VEVENT
END:VCALENDAR