BEGIN:VCALENDAR
VERSION:2.0
PRODID:-//Give it a Grow Wigan - ECPv6.15.20//NONSGML v1.0//EN
CALSCALE:GREGORIAN
METHOD:PUBLISH
X-WR-CALNAME:Give it a Grow Wigan
X-ORIGINAL-URL:https://giveitagrowwigan.co.uk
X-WR-CALDESC:Events for Give it a Grow Wigan
REFRESH-INTERVAL;VALUE=DURATION:PT1H
X-Robots-Tag:noindex
X-PUBLISHED-TTL:PT1H
BEGIN:VTIMEZONE
TZID:Europe/London
BEGIN:DAYLIGHT
TZOFFSETFROM:+0000
TZOFFSETTO:+0100
TZNAME:BST
DTSTART:20250330T010000
END:DAYLIGHT
BEGIN:STANDARD
TZOFFSETFROM:+0100
TZOFFSETTO:+0000
TZNAME:GMT
DTSTART:20251026T010000
END:STANDARD
BEGIN:DAYLIGHT
TZOFFSETFROM:+0000
TZOFFSETTO:+0100
TZNAME:BST
DTSTART:20260329T010000
END:DAYLIGHT
BEGIN:STANDARD
TZOFFSETFROM:+0100
TZOFFSETTO:+0000
TZNAME:GMT
DTSTART:20261025T010000
END:STANDARD
BEGIN:DAYLIGHT
TZOFFSETFROM:+0000
TZOFFSETTO:+0100
TZNAME:BST
DTSTART:20270328T010000
END:DAYLIGHT
BEGIN:STANDARD
TZOFFSETFROM:+0100
TZOFFSETTO:+0000
TZNAME:GMT
DTSTART:20271031T010000
END:STANDARD
END:VTIMEZONE
BEGIN:VEVENT
DTSTART;TZID=Europe/London:20260227T100000
DTEND;TZID=Europe/London:20260227T113000
DTSTAMP:20260423T085006
CREATED:20260128T151124Z
LAST-MODIFIED:20260218T193019Z
UID:15161-1772186400-1772191800@giveitagrowwigan.co.uk
SUMMARY:Step Into Nature - Guided Woodland Walk
DESCRIPTION:Our free monthly guided woodland walk – Step Into Nature.  \nThe next walk together is on 27th Feb\, 10am at Scott Lane Bridge carpark WN6 7NL  It will be led by Victoria – we’ll gently enjoy the sights and sounds of this beautiful area \nStarting in Springfield this month\, we’ll explore the local canal path for an accessible walk. This is pram friendly\, wheelchair friends and generally easier on the legs overall\, a perfect way to get outdoors\, meet new friends\, and discover hidden corners of our local green spaces. The walk is approximately 2 miles long and is free to attend. \nThe surface is flat\, but dress for the weather. \nIt will usually be the 4th Friday of each month at 10am. The starting point may alter very slightly month to month\, but we will make sure to update you. \nBooking is preferred\, but not necessary. It’s just so we know to wait for you. Or if you prefer to text that’s fine\, 07768202818
URL:https://giveitagrowwigan.co.uk/event/step-into-nature-guided-woodland-walk-4/
LOCATION:Greater Manchester
CATEGORIES:Free,Workshop
ATTACH;FMTTYPE=image/jpeg:https://giveitagrowwigan.co.uk/wp-content/uploads/2026/01/TCP-Step-Into-Nature-Walk-Instagram.jpg
END:VEVENT
END:VCALENDAR