BEGIN:VCALENDAR
VERSION:2.0
PRODID:-//Give it a Grow Wigan - ECPv6.15.20//NONSGML v1.0//EN
CALSCALE:GREGORIAN
METHOD:PUBLISH
X-ORIGINAL-URL:https://giveitagrowwigan.co.uk
X-WR-CALDESC:Events for Give it a Grow Wigan
REFRESH-INTERVAL;VALUE=DURATION:PT1H
X-Robots-Tag:noindex
X-PUBLISHED-TTL:PT1H
BEGIN:VTIMEZONE
TZID:Europe/London
BEGIN:DAYLIGHT
TZOFFSETFROM:+0000
TZOFFSETTO:+0100
TZNAME:BST
DTSTART:20250330T010000
END:DAYLIGHT
BEGIN:STANDARD
TZOFFSETFROM:+0100
TZOFFSETTO:+0000
TZNAME:GMT
DTSTART:20251026T010000
END:STANDARD
BEGIN:DAYLIGHT
TZOFFSETFROM:+0000
TZOFFSETTO:+0100
TZNAME:BST
DTSTART:20260329T010000
END:DAYLIGHT
BEGIN:STANDARD
TZOFFSETFROM:+0100
TZOFFSETTO:+0000
TZNAME:GMT
DTSTART:20261025T010000
END:STANDARD
BEGIN:DAYLIGHT
TZOFFSETFROM:+0000
TZOFFSETTO:+0100
TZNAME:BST
DTSTART:20270328T010000
END:DAYLIGHT
BEGIN:STANDARD
TZOFFSETFROM:+0100
TZOFFSETTO:+0000
TZNAME:GMT
DTSTART:20271031T010000
END:STANDARD
END:VTIMEZONE
BEGIN:VEVENT
DTSTART;TZID=Europe/London:20260307T110000
DTEND;TZID=Europe/London:20260307T120000
DTSTAMP:20260422T191049
CREATED:20260218T194449Z
LAST-MODIFIED:20260226T175735Z
UID:15239-1772881200-1772884800@giveitagrowwigan.co.uk
SUMMARY:Wild Crafts - Fairy Houses
DESCRIPTION:Wild Crafts is a new spring programme of fun nature-based creative sessions for families in Wigan.  \nA great way to try something new and creative together – inspired by nature. Some events are drop-in\, some you can book in advance – all are free and suitable for all the family.  \nJoin Ali on 7th March at Standish Library to make your own tiny fairy house with cardboard. You’ll create the cutest house just for fairies\, paint and decorate it with beautiful natural items such as moss\, sticks\, petals\,  and shells\, and take your little home away to enjoy.  \nAll materials and full guidance are provided. \nFree – booking required\, please book on this page. \nPlease only reserve a space for children attending. All children must be accompanied.  \nThis programme of events is kindly funded by Curious Minds \nEvent organised by The Community Patch CIC\, a local non-profit working to increase biodiversity in Wigan and bring people together in nature.
URL:https://giveitagrowwigan.co.uk/event/wild-crafts-fairy-houses/
LOCATION:Standish Library\, 13 Cross St\, Standish\, Wigan\, WN6 0HQ
CATEGORIES:Free,Workshop
ATTACH;FMTTYPE=image/jpeg:https://giveitagrowwigan.co.uk/wp-content/uploads/2026/02/Fairy-Houses.jpg
END:VEVENT
END:VCALENDAR