BEGIN:VCALENDAR
VERSION:2.0
PRODID:-//Give it a Grow Wigan - ECPv6.15.20//NONSGML v1.0//EN
CALSCALE:GREGORIAN
METHOD:PUBLISH
X-WR-CALNAME:Give it a Grow Wigan
X-ORIGINAL-URL:https://giveitagrowwigan.co.uk
X-WR-CALDESC:Events for Give it a Grow Wigan
REFRESH-INTERVAL;VALUE=DURATION:PT1H
X-Robots-Tag:noindex
X-PUBLISHED-TTL:PT1H
BEGIN:VTIMEZONE
TZID:Europe/London
BEGIN:DAYLIGHT
TZOFFSETFROM:+0000
TZOFFSETTO:+0100
TZNAME:BST
DTSTART:20250330T010000
END:DAYLIGHT
BEGIN:STANDARD
TZOFFSETFROM:+0100
TZOFFSETTO:+0000
TZNAME:GMT
DTSTART:20251026T010000
END:STANDARD
BEGIN:DAYLIGHT
TZOFFSETFROM:+0000
TZOFFSETTO:+0100
TZNAME:BST
DTSTART:20260329T010000
END:DAYLIGHT
BEGIN:STANDARD
TZOFFSETFROM:+0100
TZOFFSETTO:+0000
TZNAME:GMT
DTSTART:20261025T010000
END:STANDARD
BEGIN:DAYLIGHT
TZOFFSETFROM:+0000
TZOFFSETTO:+0100
TZNAME:BST
DTSTART:20270328T010000
END:DAYLIGHT
BEGIN:STANDARD
TZOFFSETFROM:+0100
TZOFFSETTO:+0000
TZNAME:GMT
DTSTART:20271031T010000
END:STANDARD
END:VTIMEZONE
BEGIN:VEVENT
DTSTART;TZID=Europe/London:20260321T120000
DTEND;TZID=Europe/London:20260321T150000
DTSTAMP:20260421T204706
CREATED:20260219T133946Z
LAST-MODIFIED:20260226T175218Z
UID:15242-1774094400-1774105200@giveitagrowwigan.co.uk
SUMMARY:Mini Equinox Festival
DESCRIPTION:We’re excited to invite you to our Mini Equinox Festival\, celebrating the arrival of spring. \nJoin us in the community garden for music\, poetry\, planting and time together outdoors in the beauty of the garden. \nBring a picnic and enjoy live music from Quaintest Show on Earth and poetry from Falty Talty. \nThere will also be games\, face painting and a strawberry plant to take home\, as well as cake! \nThe fest is on the equinox – Saturday 21st March 12-3pm\, this is the day when night and day are equal in length and marks the first day of spring – we’re so excited! Here’s the facebook event \nFree to attend and family friendly – children must be accompanied \nThis is part of the GM Live Well Spring festival with over 200 pop-up events across Greater Manchester.
URL:https://giveitagrowwigan.co.uk/event/mini-equinox-festival/
LOCATION:St Anne’s Community Garden\, 152 Beech Hill Ave\, Wigan\, Greater Manchester\, WN6 7TA\, United Kingdom
CATEGORIES:Free
ATTACH;FMTTYPE=image/jpeg:https://giveitagrowwigan.co.uk/wp-content/uploads/2026/02/Equinox-Fest.jpg
END:VEVENT
END:VCALENDAR