BEGIN:VCALENDAR
VERSION:2.0
PRODID:-//Give it a Grow Wigan - ECPv6.15.20//NONSGML v1.0//EN
CALSCALE:GREGORIAN
METHOD:PUBLISH
X-WR-CALNAME:Give it a Grow Wigan
X-ORIGINAL-URL:https://giveitagrowwigan.co.uk
X-WR-CALDESC:Events for Give it a Grow Wigan
REFRESH-INTERVAL;VALUE=DURATION:PT1H
X-Robots-Tag:noindex
X-PUBLISHED-TTL:PT1H
BEGIN:VTIMEZONE
TZID:Europe/London
BEGIN:DAYLIGHT
TZOFFSETFROM:+0000
TZOFFSETTO:+0100
TZNAME:BST
DTSTART:20250330T010000
END:DAYLIGHT
BEGIN:STANDARD
TZOFFSETFROM:+0100
TZOFFSETTO:+0000
TZNAME:GMT
DTSTART:20251026T010000
END:STANDARD
BEGIN:DAYLIGHT
TZOFFSETFROM:+0000
TZOFFSETTO:+0100
TZNAME:BST
DTSTART:20260329T010000
END:DAYLIGHT
BEGIN:STANDARD
TZOFFSETFROM:+0100
TZOFFSETTO:+0000
TZNAME:GMT
DTSTART:20261025T010000
END:STANDARD
BEGIN:DAYLIGHT
TZOFFSETFROM:+0000
TZOFFSETTO:+0100
TZNAME:BST
DTSTART:20270328T010000
END:DAYLIGHT
BEGIN:STANDARD
TZOFFSETFROM:+0100
TZOFFSETTO:+0000
TZNAME:GMT
DTSTART:20271031T010000
END:STANDARD
END:VTIMEZONE
BEGIN:VEVENT
DTSTART;TZID=Europe/London:20260502T110000
DTEND;TZID=Europe/London:20260502T130000
DTSTAMP:20260421T210635
CREATED:20260415T122451Z
LAST-MODIFIED:20260415T122451Z
UID:15519-1777719600-1777726800@giveitagrowwigan.co.uk
SUMMARY:Wild Crafts  - Dream Catchers
DESCRIPTION:Wild Crafts is a new spring programme of fun nature-based creative sessions for families in Wigan.  \nA great way to try something new and creative together – inspired by nature. Some events are drop-in\, some you can book in advance – all are free and suitable for children and adults.  \nJoin Ali on 2nd May\, any time between 11am and 1pm at St Anne’s Community Garden\, WN6 7TA\, to make our own windchimes. We’ll be using a tactile array of sticks\, natural materials and beauutiful ribbons. Take your dreamcatcher home and find the perfect spot to hang it. \nAll materials and full guidance are provided. \nFree – just drop into the session – but you can book if prefer though. Please only reserve space for children.  \nThis programme of events is kindly funded by the Curious Minds Chance to See Fund \nEvent organised by The Community Patch CIC\, a local non-profit working to increase biodiversity in Wigan and bring people together in nature.
URL:https://giveitagrowwigan.co.uk/event/wild-crafts-dream-catchers/
LOCATION:St Anne’s Community Garden\, 152 Beech Hill Ave\, Wigan\, Greater Manchester\, WN6 7TA\, United Kingdom
CATEGORIES:Free,Workshop
ATTACH;FMTTYPE=image/jpeg:https://giveitagrowwigan.co.uk/wp-content/uploads/2026/02/Wild-Crafts-Main.jpg
END:VEVENT
BEGIN:VEVENT
DTSTART;TZID=Europe/London:20260509T110000
DTEND;TZID=Europe/London:20260509T130000
DTSTAMP:20260421T210635
CREATED:20260415T080736Z
LAST-MODIFIED:20260415T080850Z
UID:15515-1778324400-1778331600@giveitagrowwigan.co.uk
SUMMARY:Wild Crafts  - Windchimes
DESCRIPTION:Wild Crafts is a new spring programme of fun nature-based creative sessions for families in Wigan.  \nA great way to try something new and creative together – inspired by nature. Some events are drop-in\, some you can book in advance – all are free and suitable for children and adults.  \nJoin Ali on 9th May\, any time between 11am and 1pm at St Anne’s Community Garden\, WN6 7TA\, to make our own windchimes. Using elderwood and a variety of fun\, tactile natural materials\, it’s a creative\, relaxed session for children and grown-ups to create something together and enjoy being outdoors.  \nTake your windchime home and find the perfect spot to hang it and enjoy the gentle sounds it brings. \nAll materials and full guidance are provided. \nFree – just drop into the session – but you can book if prefer though. Please only reserve space for children.  \nThis programme of events is kindly funded by the Curious Minds Chance to See Fund \nEvent organised by The Community Patch CIC\, a local non-profit working to increase biodiversity in Wigan and bring people together in nature.
URL:https://giveitagrowwigan.co.uk/event/wild-crafts-windchimes/
LOCATION:St Anne’s Community Garden\, 152 Beech Hill Ave\, Wigan\, Greater Manchester\, WN6 7TA\, United Kingdom
CATEGORIES:Free,Workshop
ATTACH;FMTTYPE=image/jpeg:https://giveitagrowwigan.co.uk/wp-content/uploads/2026/02/Wild-Crafts-Main.jpg
END:VEVENT
BEGIN:VEVENT
DTSTART;TZID=Europe/London:20260531T120000
DTEND;TZID=Europe/London:20260531T150000
DTSTAMP:20260421T210635
CREATED:20260421T131048Z
LAST-MODIFIED:20260421T131048Z
UID:15525-1780228800-1780239600@giveitagrowwigan.co.uk
SUMMARY:Gardening Together Sunday Session
DESCRIPTION:Join us in the community garden on the last Sunday of each month for our weekend session – 12 – 3pm\, for some company and gentle movement in the outdoors. \nAt the community garden\, we tend to several raised beds\, borders\, a greenhouse\, fruit trees\, and a wildlife pond together. We grow all kinds of fruit and veg\, and there is often produce or plants to take home at the end of a session. \nThere are always plenty of different jobs to do and things to learn. Anyone is welcome to attend – just show up\, there’s no need to book\, and no skills are required as all training and tools are provided. \nChildren and families are always welcome. We’ve got garden toys and always invite young people to join in with planting and garden jobs if they want. \nPlease dress for the weather – sessions always go ahead unless it’s pouring with rain. We’ll post on socials if it’s off for any reason. \nThe space is accessible by wheelchair. \nAddress\nSt Anne’s Community Garden\, 152 Beech Hill Ave\, Wigan\, WN6 7TA \nThere’s free parking outside\, and it’s accessible by bus
URL:https://giveitagrowwigan.co.uk/event/gardening-together-sunday-4-5
LOCATION:St Anne’s Community Garden\, 152 Beech Hill Ave\, Wigan\, Greater Manchester\, WN6 7TA\, United Kingdom
CATEGORIES:Free,Gardening
ATTACH;FMTTYPE=image/jpeg:https://giveitagrowwigan.co.uk/wp-content/uploads/2025/05/seed-bomb-sunday-gardening-min-e1753524841621.jpg
ORGANIZER;CN="Give it a Grow Wigan":MAILTO:hello@giveitagrowwigan.co.uk
END:VEVENT
END:VCALENDAR